BEGIN:VCALENDAR
VERSION:2.0
PRODID:-//Domaine de la Gracieuse - ECPv6.15.17.1//NONSGML v1.0//EN
CALSCALE:GREGORIAN
METHOD:PUBLISH
X-ORIGINAL-URL:https://gracieuse.ch
X-WR-CALDESC:Évènements pour Domaine de la Gracieuse
REFRESH-INTERVAL;VALUE=DURATION:PT1H
X-Robots-Tag:noindex
X-PUBLISHED-TTL:PT1H
BEGIN:VTIMEZONE
TZID:Europe/Paris
BEGIN:DAYLIGHT
TZOFFSETFROM:+0100
TZOFFSETTO:+0200
TZNAME:CEST
DTSTART:20160327T010000
END:DAYLIGHT
BEGIN:STANDARD
TZOFFSETFROM:+0200
TZOFFSETTO:+0100
TZNAME:CET
DTSTART:20161030T010000
END:STANDARD
BEGIN:DAYLIGHT
TZOFFSETFROM:+0100
TZOFFSETTO:+0200
TZNAME:CEST
DTSTART:20170326T010000
END:DAYLIGHT
BEGIN:STANDARD
TZOFFSETFROM:+0200
TZOFFSETTO:+0100
TZNAME:CET
DTSTART:20171029T010000
END:STANDARD
BEGIN:DAYLIGHT
TZOFFSETFROM:+0100
TZOFFSETTO:+0200
TZNAME:CEST
DTSTART:20180325T010000
END:DAYLIGHT
BEGIN:STANDARD
TZOFFSETFROM:+0200
TZOFFSETTO:+0100
TZNAME:CET
DTSTART:20181028T010000
END:STANDARD
END:VTIMEZONE
BEGIN:VEVENT
DTSTART;TZID=Europe/Paris:20170316T160000
DTEND;TZID=Europe/Paris:20170316T170000
DTSTAMP:20260420T154620
CREATED:20170214T145545Z
LAST-MODIFIED:20170227T081132Z
UID:1283-1489680000-1489683600@gracieuse.ch
SUMMARY:Duo musical
DESCRIPTION:Dans le cadre des Jeudis Culturels de la Résidence Seniors avec Services Le Domaine de la Gracieuse de Lonay\, un concert de piano et guitare sera proposé le jeudi 16 mars 2017. \nDes sonorités locales que le groupe Perlamusica prendra plaisir à reproduire. \nUn moment où musique et bonne humeur ne feront qu’un ! \n 
URL:https://gracieuse.ch/event/duo-musical/
LOCATION:Le Domaine de La Gracieuse\, Chemin des Vignes\, 14\, Lonay\, Suisse
CATEGORIES:Events
ATTACH;FMTTYPE=image/jpeg:https://gracieuse.ch/wp-content/uploads/2016/03/Violon.jpg
END:VEVENT
BEGIN:VEVENT
DTSTART;TZID=Europe/Paris:20170302T160000
DTEND;TZID=Europe/Paris:20170302T170000
DTSTAMP:20260420T154620
CREATED:20170214T144921Z
LAST-MODIFIED:20170227T081154Z
UID:1282-1488470400-1488474000@gracieuse.ch
SUMMARY:Concert de violon
DESCRIPTION:Concert de violon au sein du  Domaine de la Gracieuse (CH) Lonay\nLa Résidence  Le Domaine de la Gracieuse à Lonay aura le plaisir d’accueillir Mme Irène FISCHER\, le Jeudi 2 mars 2017\, pour un concert de violon. \nLes résidents pourront se relaxer en écoutant ce merveilleux concert. \nVenez passer un moment chaleureux !
URL:https://gracieuse.ch/event/concert-de-violon/
LOCATION:Le Domaine de La Gracieuse\, Chemin des Vignes\, 14\, Lonay\, Suisse
CATEGORIES:Events
ATTACH;FMTTYPE=image/jpeg:https://gracieuse.ch/wp-content/uploads/2016/11/Violon2.jpg
END:VEVENT
BEGIN:VEVENT
DTSTART;TZID=Europe/Paris:20170223T160000
DTEND;TZID=Europe/Paris:20170223T170000
DTSTAMP:20260420T154620
CREATED:20170214T164716Z
LAST-MODIFIED:20170214T164716Z
UID:1299-1487865600-1487869200@gracieuse.ch
SUMMARY:Concert Duo Piano & Violon
DESCRIPTION:Dans le cadre des Jeudis Culturels de la Résidence Seniors avec Services Le Domaine de la Gracieuse de Lonay\, un concert de piano et violon sera proposé le jeudi 23 mars 2017. \nPour l’occasion\, les résidents auront le plaisir de recevoir Monsieur Guilherme Pimenta et Monsieur Lucas Videla pour animer cette après-midi musicale. \nUn moment où musique et bonne humeur ne feront qu’un !
URL:https://gracieuse.ch/event/concert-duo-piano-violon/
LOCATION:Le Domaine de La Gracieuse\, Chemin des Vignes\, 14\, Lonay\, Suisse
ATTACH;FMTTYPE=image/jpeg:https://gracieuse.ch/wp-content/uploads/2016/03/Violon.jpg
END:VEVENT
BEGIN:VEVENT
DTSTART;TZID=Europe/Paris:20170221T130000
DTEND;TZID=Europe/Paris:20170221T180000
DTSTAMP:20260420T154620
CREATED:20170214T163846Z
LAST-MODIFIED:20170214T163846Z
UID:1294-1487682000-1487700000@gracieuse.ch
SUMMARY:Visite du musée Chaplin's World
DESCRIPTION:Visite du musée Chaplin’s World pour la maison de retraite médicalisée Le Domaine de la Gracieuse à Lonay (CH)\nLe mardi 21 mars 2017\, les résidents du Domaine de la Gracieuse auront le plaisir de se rendre à Vevey pour y visiter l’incontournable musée Chaplin’s World. \nUne après-midi placée sous le signe de la découverte. \nVenez voyager a travers le temps et venez vivre la magie du cinéma. \n 
URL:https://gracieuse.ch/event/visite-du-musee-chaplins-world/
LOCATION:Le Domaine de La Gracieuse\, Chemin des Vignes\, 14\, Lonay\, Suisse
ATTACH;FMTTYPE=image/jpeg:https://gracieuse.ch/wp-content/uploads/2017/02/chaplin.jpg
END:VEVENT
END:VCALENDAR